Package: scReClassify Version: 1.14.0 Command: /home/biocbuild/R/R/bin/R CMD build --keep-empty-dirs --no-resave-data scReClassify StartedAt: 2025-05-16 04:06:02 -0000 (Fri, 16 May 2025) EndedAt: 2025-05-16 04:09:32 -0000 (Fri, 16 May 2025) EllapsedTime: 210.1 seconds RetCode: 0 Status: OK PackageFile: scReClassify_1.14.0.tar.gz PackageFileSize: 2.634 MiB