Package: scReClassify Version: 1.14.0 Command: /Library/Frameworks/R.framework/Resources/bin/R CMD build --keep-empty-dirs --no-resave-data scReClassify StartedAt: 2025-05-20 08:02:33 -0400 (Tue, 20 May 2025) EndedAt: 2025-05-20 08:05:41 -0400 (Tue, 20 May 2025) EllapsedTime: 188.2 seconds RetCode: 0 Status: OK PackageFile: scReClassify_1.14.0.tar.gz PackageFileSize: 2.59 MiB