Package: scRNAseqApp Version: 1.8.0 Command: /home/biocbuild/bbs-3.21-bioc/R/bin/R CMD INSTALL scRNAseqApp StartedAt: 2025-10-15 15:25:49 -0400 (Wed, 15 Oct 2025) EndedAt: 2025-10-15 15:26:50 -0400 (Wed, 15 Oct 2025) EllapsedTime: 61.5 seconds RetCode: 0 Status: OK