Package: scRNAseqApp Version: 1.8.0 Command: /home/biocbuild/bbs-3.21-bioc/R/bin/R CMD build --keep-empty-dirs --no-resave-data scRNAseqApp StartedAt: 2025-10-15 19:48:25 -0400 (Wed, 15 Oct 2025) EndedAt: 2025-10-15 19:49:53 -0400 (Wed, 15 Oct 2025) EllapsedTime: 87.0 seconds RetCode: 0 Status: OK PackageFile: scRNAseqApp_1.8.0.tar.gz PackageFileSize: 2.196 MiB