Package: scRNAseqApp Version: 1.8.0 Command: /Library/Frameworks/R.framework/Resources/bin/R CMD INSTALL scRNAseqApp StartedAt: 2025-07-21 16:37:22 -0400 (Mon, 21 Jul 2025) EndedAt: 2025-07-21 16:38:36 -0400 (Mon, 21 Jul 2025) EllapsedTime: 73.5 seconds RetCode: 0 Status: OK