Package: scQTLtools Version: 1.2.0 Command: /Library/Frameworks/R.framework/Resources/bin/R CMD INSTALL scQTLtools StartedAt: 2025-11-03 15:50:54 -0500 (Mon, 03 Nov 2025) EndedAt: 2025-11-03 15:51:51 -0500 (Mon, 03 Nov 2025) EllapsedTime: 57.4 seconds RetCode: 0 Status: OK