Package: scQTLtools Version: 1.2.0 Command: /Library/Frameworks/R.framework/Resources/bin/R CMD build --keep-empty-dirs --no-resave-data scQTLtools StartedAt: 2025-11-03 18:41:40 -0500 (Mon, 03 Nov 2025) EndedAt: 2025-11-03 18:43:47 -0500 (Mon, 03 Nov 2025) EllapsedTime: 126.5 seconds RetCode: 0 Status: OK PackageFile: scQTLtools_1.2.0.tar.gz PackageFileSize: 4.269 MiB