Package: scQTLtools Version: 1.2.0 Command: /Library/Frameworks/R.framework/Resources/bin/R CMD INSTALL scQTLtools StartedAt: 2025-11-03 15:28:39 -0500 (Mon, 03 Nov 2025) EndedAt: 2025-11-03 15:28:55 -0500 (Mon, 03 Nov 2025) EllapsedTime: 16.8 seconds RetCode: 0 Status: OK