Package: scQTLtools Version: 1.2.0 Command: /Library/Frameworks/R.framework/Resources/bin/R CMD INSTALL scQTLtools StartedAt: 2025-11-17 18:30:48 -0500 (Mon, 17 Nov 2025) EndedAt: 2025-11-17 18:31:05 -0500 (Mon, 17 Nov 2025) EllapsedTime: 16.3 seconds RetCode: 0 Status: OK