Package: scQTLtools Version: 1.2.0 Command: /Library/Frameworks/R.framework/Resources/bin/R CMD build --keep-empty-dirs --no-resave-data scQTLtools StartedAt: 2025-11-18 00:43:00 -0500 (Tue, 18 Nov 2025) EndedAt: 2025-11-18 00:43:37 -0500 (Tue, 18 Nov 2025) EllapsedTime: 36.3 seconds RetCode: 0 Status: OK PackageFile: scQTLtools_1.2.0.tar.gz PackageFileSize: 4.268 MiB