Package: scQTLtools Version: 1.2.0 Command: rm -rf scQTLtools.buildbin-libdir && mkdir scQTLtools.buildbin-libdir && /Users/biocbuild/BBS/utils/build-universal.sh scQTLtools_1.2.0.tar.gz /Library/Frameworks/R.framework/Resources/bin/R scQTLtools.buildbin-libdir StartedAt: 2025-11-18 16:22:41 -0500 (Tue, 18 Nov 2025) EndedAt: 2025-11-18 16:23:03 -0500 (Tue, 18 Nov 2025) EllapsedTime: 22.3 seconds RetCode: 0 Status: OK PackageFile: scQTLtools_1.2.0.tgz PackageFileSize: 3.305 MiB