Package: scPipe Version: 2.8.0 Command: rm -rf scPipe.buildbin-libdir && mkdir scPipe.buildbin-libdir && E:\biocbuild\bbs-3.21-bioc\R\bin\R.exe CMD INSTALL --build --library=scPipe.buildbin-libdir scPipe_2.8.0.tar.gz StartedAt: 2025-08-15 10:15:24 -0400 (Fri, 15 Aug 2025) EndedAt: 2025-08-15 10:19:08 -0400 (Fri, 15 Aug 2025) EllapsedTime: 224.3 seconds RetCode: 0 Status: OK PackageFile: scPipe_2.8.0.zip PackageFileSize: 18.16 MiB