Package: scPipe Version: 2.8.0 Command: /home/biocbuild/R/R/bin/R CMD check --install=check:scPipe.install-out.txt --library=/home/biocbuild/R/R/site-library --no-vignettes --timings scPipe_2.8.0.tar.gz StartedAt: 2025-04-22 13:37:53 -0000 (Tue, 22 Apr 2025) EndedAt: 2025-04-22 13:45:27 -0000 (Tue, 22 Apr 2025) EllapsedTime: 453.5 seconds RetCode: 0 Status: OK CheckDir: scPipe.Rcheck Warnings: 0