Package: scPipe Version: 2.8.0 Command: rm -rf scPipe.buildbin-libdir && mkdir scPipe.buildbin-libdir && /Users/biocbuild/BBS/utils/build-universal.sh scPipe_2.8.0.tar.gz /Library/Frameworks/R.framework/Resources/bin/R scPipe.buildbin-libdir StartedAt: 2025-04-21 22:51:38 -0400 (Mon, 21 Apr 2025) EndedAt: 2025-04-21 22:52:29 -0400 (Mon, 21 Apr 2025) EllapsedTime: 51.0 seconds RetCode: 0 Status: OK PackageFile: scPipe_2.8.0.tgz PackageFileSize: 13.72 MiB