Package: scPipe Version: 2.6.0 Command: /Library/Frameworks/R.framework/Resources/bin/R CMD build --keep-empty-dirs --no-resave-data scPipe StartedAt: 2025-02-04 07:41:32 -0500 (Tue, 04 Feb 2025) EndedAt: 2025-02-04 07:58:13 -0500 (Tue, 04 Feb 2025) EllapsedTime: 1000.4 seconds RetCode: 0 Status: OK PackageFile: scPipe_2.6.0.tar.gz PackageFileSize: 12.67 <A href="http://en.wikipedia.org/wiki/MiB" target="_blank">MiB</A>