Package: scPCA Version: 1.22.0 Command: rm -rf scPCA.buildbin-libdir && mkdir scPCA.buildbin-libdir && E:\biocbuild\bbs-3.21-bioc\R\bin\R.exe CMD INSTALL --build --library=scPCA.buildbin-libdir scPCA_1.22.0.tar.gz StartedAt: 2025-08-15 10:15:21 -0400 (Fri, 15 Aug 2025) EndedAt: 2025-08-15 10:15:52 -0400 (Fri, 15 Aug 2025) EllapsedTime: 30.9 seconds RetCode: 0 Status: OK PackageFile: scPCA_1.22.0.zip PackageFileSize: 907.5 KiB