Package: scPCA Version: 1.22.0 Command: /home/biocbuild/R/R/bin/R CMD check --install=check:scPCA.install-out.txt --library=/home/biocbuild/R/R/site-library --no-vignettes --timings scPCA_1.22.0.tar.gz StartedAt: 2025-05-06 13:20:18 -0000 (Tue, 06 May 2025) EndedAt: 2025-05-06 13:24:26 -0000 (Tue, 06 May 2025) EllapsedTime: 248.1 seconds RetCode: 0 Status: OK CheckDir: scPCA.Rcheck Warnings: 0