Package: scMultiSim Version: 1.4.0 Command: /home/biocbuild/bbs-3.21-bioc/R/bin/R CMD INSTALL scMultiSim StartedAt: 2025-10-15 15:23:15 -0400 (Wed, 15 Oct 2025) EndedAt: 2025-10-15 15:23:43 -0400 (Wed, 15 Oct 2025) EllapsedTime: 28.1 seconds RetCode: 0 Status: OK