Package: scMitoMut Version: 1.2.0 Command: /home/biocbuild/bbs-3.20-bioc/R/bin/R CMD INSTALL scMitoMut StartedAt: 2025-01-30 15:10:31 -0500 (Thu, 30 Jan 2025) EndedAt: 2025-01-30 15:10:51 -0500 (Thu, 30 Jan 2025) EllapsedTime: 20.0 seconds RetCode: 0 Status: OK