Package: scMitoMut Version: 1.4.0 Command: /Library/Frameworks/R.framework/Resources/bin/R CMD build --keep-empty-dirs --no-resave-data scMitoMut StartedAt: 2025-05-08 22:08:56 -0400 (Thu, 08 May 2025) EndedAt: 2025-05-08 22:10:35 -0400 (Thu, 08 May 2025) EllapsedTime: 98.5 seconds RetCode: 0 Status: OK PackageFile: scMitoMut_1.4.0.tar.gz PackageFileSize: 1.187 MiB