Package: scMerge Version: 1.24.0 Command: /Library/Frameworks/R.framework/Resources/bin/R CMD check --install=check:scMerge.install-out.txt --library=/Library/Frameworks/R.framework/Resources/library --no-vignettes --timings scMerge_1.24.0.tar.gz StartedAt: 2025-05-06 09:15:17 -0400 (Tue, 06 May 2025) EndedAt: 2025-05-06 09:49:41 -0400 (Tue, 06 May 2025) EllapsedTime: 2064.0 seconds RetCode: 0 Status: OK CheckDir: scMerge.Rcheck Warnings: 0