Package: scMET Version: 1.10.0 Command: rm -rf scMET.buildbin-libdir && mkdir scMET.buildbin-libdir && /Users/biocbuild/BBS/utils/build-universal.sh scMET_1.10.0.tar.gz /Library/Frameworks/R.framework/Resources/bin/R scMET.buildbin-libdir StartedAt: 2025-05-02 14:24:59 -0400 (Fri, 02 May 2025) EndedAt: 2025-05-02 14:29:16 -0400 (Fri, 02 May 2025) EllapsedTime: 257.6 seconds RetCode: 0 Status: OK PackageFile: scMET_1.10.0.tgz PackageFileSize: 4.158 MiB