Package: scMET Version: 1.10.0 Command: /home/biocbuild/R/R/bin/R CMD INSTALL scMET StartedAt: 2025-04-21 20:48:12 -0000 (Mon, 21 Apr 2025) EndedAt: 2025-04-21 20:51:17 -0000 (Mon, 21 Apr 2025) EllapsedTime: 185.1 seconds RetCode: 0 Status: OK