Package: scMET Version: 1.10.0 Command: /Library/Frameworks/R.framework/Resources/bin/R CMD check --install=check:scMET.install-out.txt --library=/Library/Frameworks/R.framework/Resources/library --no-vignettes --timings scMET_1.10.0.tar.gz StartedAt: 2025-04-21 21:31:04 -0400 (Mon, 21 Apr 2025) EndedAt: 2025-04-21 21:32:17 -0400 (Mon, 21 Apr 2025) EllapsedTime: 73.8 seconds RetCode: 0 Status: OK CheckDir: scMET.Rcheck Warnings: 0