Package: scMET Version: 1.10.0 Command: /Library/Frameworks/R.framework/Resources/bin/R CMD INSTALL scMET StartedAt: 2025-05-05 16:52:49 -0400 (Mon, 05 May 2025) EndedAt: 2025-05-05 16:54:30 -0400 (Mon, 05 May 2025) EllapsedTime: 101.2 seconds RetCode: 0 Status: OK