Package: scMET Version: 1.10.0 Command: /Library/Frameworks/R.framework/Resources/bin/R CMD build --keep-empty-dirs --no-resave-data scMET StartedAt: 2025-05-06 07:55:20 -0400 (Tue, 06 May 2025) EndedAt: 2025-05-06 07:58:46 -0400 (Tue, 06 May 2025) EllapsedTime: 206.4 seconds RetCode: 0 Status: OK PackageFile: scMET_1.10.0.tar.gz PackageFileSize: 3.283 MiB