Package: scLANE Version: 1.0.0 Command: /home/biocbuild/bbs-3.22-bioc/R/bin/R CMD INSTALL scLANE StartedAt: 2025-11-05 15:17:29 -0500 (Wed, 05 Nov 2025) EndedAt: 2025-11-05 15:18:19 -0500 (Wed, 05 Nov 2025) EllapsedTime: 50.2 seconds RetCode: 0 Status: OK