Package: scLANE Version: 1.0.0 Command: /home/biocbuild/bbs-3.22-bioc/R/bin/R CMD build --keep-empty-dirs --no-resave-data --md5 scLANE StartedAt: 2025-11-05 20:03:00 -0500 (Wed, 05 Nov 2025) EndedAt: 2025-11-05 20:04:34 -0500 (Wed, 05 Nov 2025) EllapsedTime: 94.1 seconds RetCode: 0 Status: OK PackageFile: scLANE_1.0.0.tar.gz PackageFileSize: 3.968 MiB