Package: scLANE Version: 1.0.0 Command: /Library/Frameworks/R.framework/Resources/bin/R CMD INSTALL scLANE StartedAt: 2025-11-05 15:36:45 -0500 (Wed, 05 Nov 2025) EndedAt: 2025-11-05 15:37:00 -0500 (Wed, 05 Nov 2025) EllapsedTime: 15.3 seconds RetCode: 0 Status: OK