Package: scLANE Version: 1.0.0 Command: /Library/Frameworks/R.framework/Resources/bin/R CMD build --keep-empty-dirs --no-resave-data scLANE StartedAt: 2025-11-05 18:10:08 -0500 (Wed, 05 Nov 2025) EndedAt: 2025-11-05 18:10:49 -0500 (Wed, 05 Nov 2025) EllapsedTime: 40.5 seconds RetCode: 0 Status: OK PackageFile: scLANE_1.0.0.tar.gz PackageFileSize: 4.723 MiB