Package: scLANE Version: 1.0.0 Command: rm -rf scLANE.buildbin-libdir && mkdir scLANE.buildbin-libdir && /Users/biocbuild/BBS/utils/build-universal.sh scLANE_1.0.0.tar.gz /Library/Frameworks/R.framework/Resources/bin/R scLANE.buildbin-libdir StartedAt: 2025-11-06 00:18:59 -0500 (Thu, 06 Nov 2025) EndedAt: 2025-11-06 00:19:16 -0500 (Thu, 06 Nov 2025) EllapsedTime: 16.3 seconds RetCode: 0 Status: OK PackageFile: scLANE_1.0.0.tgz PackageFileSize: 5.051 MiB