Package: scLANE Version: 1.0.0 Command: /Library/Frameworks/R.framework/Resources/bin/R CMD INSTALL scLANE StartedAt: 2025-11-24 15:32:55 -0500 (Mon, 24 Nov 2025) EndedAt: 2025-11-24 15:33:41 -0500 (Mon, 24 Nov 2025) EllapsedTime: 46.7 seconds RetCode: 0 Status: OK