Package: scLANE Version: 1.0.0 Command: rm -rf scLANE.buildbin-libdir && mkdir scLANE.buildbin-libdir && /Users/biocbuild/BBS/utils/build-universal.sh scLANE_1.0.0.tar.gz /Library/Frameworks/R.framework/Resources/bin/R scLANE.buildbin-libdir StartedAt: 2025-11-23 11:18:10 -0500 (Sun, 23 Nov 2025) EndedAt: 2025-11-23 11:19:21 -0500 (Sun, 23 Nov 2025) EllapsedTime: 71.1 seconds RetCode: 0 Status: OK PackageFile: scLANE_1.0.0.tgz PackageFileSize: 5.048 MiB