Package: scHiCcompare Version: 1.2.0 Command: /home/biocbuild/R/R/bin/R CMD INSTALL scHiCcompare StartedAt: 2025-11-13 21:40:14 -0000 (Thu, 13 Nov 2025) EndedAt: 2025-11-13 21:40:52 -0000 (Thu, 13 Nov 2025) EllapsedTime: 38.5 seconds RetCode: 0 Status: OK