Package: scHiCcompare Version: 1.2.0 Command: /home/biocbuild/R/R/bin/R CMD build --keep-empty-dirs --no-resave-data scHiCcompare StartedAt: 2025-11-14 05:07:52 -0000 (Fri, 14 Nov 2025) EndedAt: 2025-11-14 05:09:03 -0000 (Fri, 14 Nov 2025) EllapsedTime: 71.1 seconds RetCode: 0 Status: OK PackageFile: scHiCcompare_1.2.0.tar.gz PackageFileSize: 1.185 MiB