Package: scHiCcompare Version: 1.0.0 Command: /home/biocbuild/R/R/bin/R CMD INSTALL scHiCcompare StartedAt: 2025-10-06 20:46:08 -0000 (Mon, 06 Oct 2025) EndedAt: 2025-10-06 20:46:49 -0000 (Mon, 06 Oct 2025) EllapsedTime: 41.0 seconds RetCode: 0 Status: OK