Package: scHiCcompare Version: 1.0.0 Command: /home/biocbuild/R/R/bin/R CMD build --keep-empty-dirs --no-resave-data scHiCcompare StartedAt: 2025-10-07 04:22:42 -0000 (Tue, 07 Oct 2025) EndedAt: 2025-10-07 04:23:56 -0000 (Tue, 07 Oct 2025) EllapsedTime: 73.0 seconds RetCode: 0 Status: OK PackageFile: scHiCcompare_1.0.0.tar.gz PackageFileSize: 1.309 MiB