Package: scHiCcompare Version: 1.2.0 Maintainer: My Nguyen MaintainerEmail: hamy.12398 at gmail.com git_url: https://git.bioconductor.org/packages/scHiCcompare git_branch: RELEASE_3_22 git_last_commit: bb3c095 git_last_commit_date: 2025-10-29 11:36:12 -0500 (Wed, 29 Oct 2025)