Package: scGraphVerse Version: 1.0.0 Command: /home/biocbuild/bbs-3.22-bioc/R/bin/R CMD INSTALL scGraphVerse StartedAt: 2025-11-02 15:29:39 -0500 (Sun, 02 Nov 2025) EndedAt: 2025-11-02 15:30:20 -0500 (Sun, 02 Nov 2025) EllapsedTime: 40.6 seconds RetCode: 0 Status: OK