Package: scGraphVerse Version: 1.0.0 Command: /home/biocbuild/bbs-3.22-bioc/R/bin/R CMD build --keep-empty-dirs --no-resave-data --md5 scGraphVerse StartedAt: 2025-11-02 20:08:10 -0500 (Sun, 02 Nov 2025) EndedAt: 2025-11-02 20:14:47 -0500 (Sun, 02 Nov 2025) EllapsedTime: 397.3 seconds RetCode: 0 Status: OK PackageFile: scGraphVerse_1.0.0.tar.gz PackageFileSize: 3.565 MiB