Package: scGraphVerse Version: 1.0.0 Command: rm -rf scGraphVerse.buildbin-libdir && mkdir scGraphVerse.buildbin-libdir && /Users/biocbuild/BBS/utils/build-universal.sh scGraphVerse_1.0.0.tar.gz /Library/Frameworks/R.framework/Resources/bin/R scGraphVerse.buildbin-libdir StartedAt: 2025-11-01 01:56:18 -0400 (Sat, 01 Nov 2025) EndedAt: 2025-11-01 01:57:06 -0400 (Sat, 01 Nov 2025) EllapsedTime: 48.4 seconds RetCode: 0 Status: OK PackageFile: scGraphVerse_1.0.0.tgz PackageFileSize: 3.881 MiB