Package: scGraphVerse Version: 1.0.0 Command: /Library/Frameworks/R.framework/Resources/bin/R CMD INSTALL scGraphVerse StartedAt: 2025-11-03 15:13:43 -0500 (Mon, 03 Nov 2025) EndedAt: 2025-11-03 15:13:55 -0500 (Mon, 03 Nov 2025) EllapsedTime: 11.9 seconds RetCode: 0 Status: OK