Package: scGraphVerse Version: 1.0.0 Command: /Library/Frameworks/R.framework/Resources/bin/R CMD build --keep-empty-dirs --no-resave-data scGraphVerse StartedAt: 2025-10-31 17:42:21 -0400 (Fri, 31 Oct 2025) EndedAt: 2025-10-31 17:45:42 -0400 (Fri, 31 Oct 2025) EllapsedTime: 201.2 seconds RetCode: 0 Status: OK PackageFile: scGraphVerse_1.0.0.tar.gz PackageFileSize: 3.597 MiB