Package: scGraphVerse Version: 1.0.0 Command: rm -rf scGraphVerse.buildbin-libdir && mkdir scGraphVerse.buildbin-libdir && /Users/biocbuild/BBS/utils/build-universal.sh scGraphVerse_1.0.0.tar.gz /Library/Frameworks/R.framework/Resources/bin/R scGraphVerse.buildbin-libdir StartedAt: 2025-10-31 23:22:38 -0400 (Fri, 31 Oct 2025) EndedAt: 2025-10-31 23:22:52 -0400 (Fri, 31 Oct 2025) EllapsedTime: 14.2 seconds RetCode: 0 Status: OK PackageFile: scGraphVerse_1.0.0.tgz PackageFileSize: 3.872 MiB