Package: scGraphVerse Version: 1.0.0 Command: /Library/Frameworks/R.framework/Resources/bin/R CMD build --keep-empty-dirs --no-resave-data scGraphVerse StartedAt: 2025-11-18 00:37:21 -0500 (Tue, 18 Nov 2025) EndedAt: 2025-11-18 00:40:32 -0500 (Tue, 18 Nov 2025) EllapsedTime: 190.8 seconds RetCode: 0 Status: OK PackageFile: scGraphVerse_1.0.0.tar.gz PackageFileSize: 3.618 MiB