Package: scGraphVerse Version: 1.0.0 Maintainer: Francesco Cecere MaintainerEmail: francesco.cecerengs at gmail.com git_url: https://git.bioconductor.org/packages/scGraphVerse git_branch: RELEASE_3_22 git_last_commit: 425f2dc git_last_commit_date: 2025-10-29 11:38:49 -0400 (Wed, 29 Oct 2025)