Package: scGPS Version: 1.20.0 Command: chmod a+r scGPS -R && F:\biocbuild\bbs-3.20-bioc\R\bin\R.exe CMD build --keep-empty-dirs --no-resave-data scGPS StartedAt: 2025-01-30 21:39:12 -0500 (Thu, 30 Jan 2025) EndedAt: 2025-01-30 21:47:08 -0500 (Thu, 30 Jan 2025) EllapsedTime: 476.8 seconds RetCode: 0 Status: OK PackageFile: scGPS_1.20.0.tar.gz PackageFileSize: 1.909 MiB