Package: scGPS Version: 1.22.0 Command: /Library/Frameworks/R.framework/Resources/bin/R CMD check --install=check:scGPS.install-out.txt --library=/Library/Frameworks/R.framework/Resources/library --no-vignettes --timings scGPS_1.22.0.tar.gz StartedAt: 2025-05-02 09:27:37 -0400 (Fri, 02 May 2025) EndedAt: 2025-05-02 09:48:10 -0400 (Fri, 02 May 2025) EllapsedTime: 1233.1 seconds RetCode: 0 Status: OK CheckDir: scGPS.Rcheck Warnings: 0