Package: scGPS Version: 1.20.0 Command: /Library/Frameworks/R.framework/Resources/bin/R CMD check --install=check:scGPS.install-out.txt --library=/Library/Frameworks/R.framework/Resources/library --no-vignettes --timings scGPS_1.20.0.tar.gz StartedAt: 2024-11-20 02:22:47 -0500 (Wed, 20 Nov 2024) EndedAt: 2024-11-20 02:31:57 -0500 (Wed, 20 Nov 2024) EllapsedTime: 549.8 seconds RetCode: 0 Status: OK CheckDir: scGPS.Rcheck Warnings: 0