Package: scGPS Version: 1.22.0 Command: /home/biocbuild/R/R/bin/R CMD build --keep-empty-dirs --no-resave-data scGPS StartedAt: 2025-05-06 04:08:32 -0000 (Tue, 06 May 2025) EndedAt: 2025-05-06 04:10:23 -0000 (Tue, 06 May 2025) EllapsedTime: 111.1 seconds RetCode: 1 Status: ERROR PackageFile: None PackageFileSize: NA